BEGIN:VCALENDAR
VERSION:2.0
PRODID:-//Contratero//ES
CALSCALE:GREGORIAN
METHOD:PUBLISH
BEGIN:VEVENT
UID:T-SU 20.4/022020 2.10@contratero.es
DTSTAMP:20260423T231427Z
DTSTART:20240807T235959
DTEND:20240808T005959
SUMMARY:Cierre: Suministro de Equipos
DESCRIPTION:Suministro de Equipos\\n\\nOrganismo: Gerencia de Transportes Interurbanos de Tenerife S.A.U.\\n\\nVer en Contratero: https://contratero.es/contracts/T-SU 20.4/022020 2.10
URL:https://contratero.es/contracts/T-SU 20.4/022020 2.10
STATUS:CONFIRMED
BEGIN:VALARM
TRIGGER:-P1D
ACTION:DISPLAY
DESCRIPTION:Recordatorio: Suministro de Equipos
END:VALARM
END:VEVENT
END:VCALENDAR